BEGIN:VCALENDAR
VERSION:2.0
PRODID:-//wp-events-plugin.com//7.2.3.1//EN
TZID:Europe/Berlin
X-WR-TIMEZONE:Europe/Berlin
BEGIN:VEVENT
UID:2-2153@frauenbund-grafenau.de
DTSTART;TZID=Europe/Berlin;VALUE=DATE:20180917
DTEND;TZID=Europe/Berlin;VALUE=DATE:20180918
DTSTAMP:20180830T181855Z
URL:https://frauenbund-grafenau.de/termine/altoetting-wallfahrt-4/
SUMMARY:Altötting-Wallfahrt
DESCRIPTION:Wir fahren gemeinsam mit dem ZV St. Oswald nach Altötting.\nAb
 fahrt 6.30 Uhr Busbahnhof\nAnmeldung bei Marita Biebl TEL 2118 oder im Pfa
 rrbüro TEL 1271
END:VEVENT
BEGIN:VTIMEZONE
TZID:Europe/Berlin
X-LIC-LOCATION:Europe/Berlin
BEGIN:DAYLIGHT
DTSTART:20180325T030000
TZOFFSETFROM:+0100
TZOFFSETTO:+0200
TZNAME:CEST
END:DAYLIGHT
END:VTIMEZONE
END:VCALENDAR