BEGIN:VCALENDAR
VERSION:2.0
PRODID:-//wp-events-plugin.com//7.2.3.1//EN
TZID:Europe/Berlin
X-WR-TIMEZONE:Europe/Berlin
BEGIN:VEVENT
UID:2-3558@frauenbund-grafenau.de
DTSTART;TZID=Europe/Berlin:20230608T090000
DTEND;TZID=Europe/Berlin:20230608T120000
DTSTAMP:20230328T141341Z
URL:https://frauenbund-grafenau.de/termine/fronleichnam-4/
SUMMARY:Fronleichnam
DESCRIPTION:Wir treffen uns bereits um 6.00 Uhr und gestalten den Altar mit
  Blumenteppich am Stadtplatz.\nUm 9.00 Uhr Gottesdienst in der Pfarrkirche
  mit anschl. Prozession.
LOCATION:\, \, 
GEO:48.85836;13.39707999999996
X-APPLE-STRUCTURED-LOCATION;VALUE=URI;X-ADDRESS=\, ;X-APPLE-RADIUS=100;X-TI
 TLE=:geo:48.85836,13.39707999999996
END:VEVENT
BEGIN:VTIMEZONE
TZID:Europe/Berlin
X-LIC-LOCATION:Europe/Berlin
BEGIN:DAYLIGHT
DTSTART:20230326T030000
TZOFFSETFROM:+0100
TZOFFSETTO:+0200
TZNAME:CEST
END:DAYLIGHT
END:VTIMEZONE
END:VCALENDAR