BEGIN:VCALENDAR
VERSION:2.0
PRODID:-//wp-events-plugin.com//7.2.3.1//EN
TZID:Europe/Berlin
X-WR-TIMEZONE:Europe/Berlin
BEGIN:VEVENT
UID:2-3232@frauenbund-grafenau.de
DTSTART;TZID=Europe/Berlin;VALUE=DATE:20220328
DTEND;TZID=Europe/Berlin;VALUE=DATE:20220329
DTSTAMP:20220227T093407Z
URL:https://frauenbund-grafenau.de/termine/landfrauentag-niederalteich-4/
SUMMARY:Landfrauentag Niederalteich
DESCRIPTION:Es werden Busse eingesetzt. Anmeldung bei Mariele Weber TEL 229
 1.
LOCATION:LVHS Niederalteich\, Hengersberger Straße 10\, Niederalteich\, Ba
 yern\, 94557\, Deutschland
GEO:48.7666376;13.026338799999962
X-APPLE-STRUCTURED-LOCATION;VALUE=URI;X-ADDRESS=Hengersberger Straße 10\, 
 Niederalteich\, Bayern\, 94557\, Deutschland;X-APPLE-RADIUS=100;X-TITLE=LV
 HS Niederalteich:geo:48.7666376,13.026338799999962
END:VEVENT
BEGIN:VTIMEZONE
TZID:Europe/Berlin
X-LIC-LOCATION:Europe/Berlin
BEGIN:DAYLIGHT
DTSTART:20220327T030000
TZOFFSETFROM:+0100
TZOFFSETTO:+0200
TZNAME:CEST
END:DAYLIGHT
END:VTIMEZONE
END:VCALENDAR