BEGIN:VCALENDAR
VERSION:2.0
PRODID:-//wp-events-plugin.com//7.2.3.1//EN
TZID:Europe/Berlin
X-WR-TIMEZONE:Europe/Berlin
BEGIN:VEVENT
UID:2-479@frauenbund-grafenau.de
DTSTART;TZID=Europe/Berlin:20160415T130000
DTEND;TZID=Europe/Berlin:20160415T190000
DTSTAMP:20160319T192746Z
URL:https://frauenbund-grafenau.de/termine/stiegenwallfahrt-maria-hilf/
SUMMARY:Stiegenwallfahrt Maria Hilf
DESCRIPTION:Gemeinsamt mit KDFB St. Oswald. Anmeldung im Pfarrbüro TEL 127
 1.\nAbfahrt um 13.00 Uhr beim Pfarrheim.
LOCATION:Wallfahrtskirche Maria Hilf\, Mariahilfberg 3\, Passau\, Bayern\, 
 94032\, Deutschland
GEO:48.5690147;13.469825600000036
X-APPLE-STRUCTURED-LOCATION;VALUE=URI;X-ADDRESS=Mariahilfberg 3\, Passau\, 
 Bayern\, 94032\, Deutschland;X-APPLE-RADIUS=100;X-TITLE=Wallfahrtskirche M
 aria Hilf:geo:48.5690147,13.469825600000036
END:VEVENT
BEGIN:VTIMEZONE
TZID:Europe/Berlin
X-LIC-LOCATION:Europe/Berlin
BEGIN:DAYLIGHT
DTSTART:20160327T030000
TZOFFSETFROM:+0100
TZOFFSETTO:+0200
TZNAME:CEST
END:DAYLIGHT
END:VTIMEZONE
END:VCALENDAR